BEGIN:VCALENDAR
VERSION:2.0
PRODID:-//Squarespace Inc/Squarespace 6//v6//EN
BEGIN:VEVENT
UID:5bac3e2aec212d7e8e2a75f6@squarespace.com
DTSTAMP:20181128T222958Z
DTSTART:20181215T133000Z
DTEND:20181215T200000Z
SUMMARY:Opepe Farm Trust AGM and Christmas Whanau Day 2018
GEO:-38.796514;176.074237
LOCATION:Pakira Marae\, 4 Pakira Place\, Waitahanui\, Waikato\, 3378\, New 
 Zealand
END:VEVENT
END:VCALENDAR
