BEGIN:VCALENDAR
VERSION:2.0
PRODID:-//Squarespace Inc/Squarespace 6//v6//EN
BEGIN:VEVENT
UID:5bff17004ae237e695766ccf@squarespace.com
DTSTAMP:20181128T223543Z
DTSTART:20181212T213000Z
DTEND:20181213T003000Z
SUMMARY:Tauhara Moana Trust AGM
GEO:-38.69177;176.075463
LOCATION:Suncourt Hotel & Conference Centre\, 14 Northcroft Street\, Taupo\
 , Waikato\, 3330\, New Zealand
END:VEVENT
END:VCALENDAR
