BEGIN:VCALENDAR
VERSION:2.0
PRODID:-//Squarespace Inc/Squarespace 6//v6//EN
BEGIN:VEVENT
UID:5bac3ef6e2c4832ef5b73bab@squarespace.com
DTSTAMP:20181009T001729Z
DTSTART:20181103T133000Z
DTEND:20181103T173000Z
SUMMARY:Te Pae o Waimihia Annual General Meeting 2018
GEO:-38.684178;176.062832
LOCATION:Nukuhau Marae\, Morison Street\, Taupo\, Waikato\, 3330\, New Zeal
 and
END:VEVENT
END:VCALENDAR
